BEGIN:VCALENDAR
VERSION:2.0
PRODID:-//The Secret Cocktail - ECPv6.15.20//NONSGML v1.0//EN
CALSCALE:GREGORIAN
METHOD:PUBLISH
X-ORIGINAL-URL:https://thesecretcocktail.com
X-WR-CALDESC:Events for The Secret Cocktail
REFRESH-INTERVAL;VALUE=DURATION:PT1H
X-Robots-Tag:noindex
X-PUBLISHED-TTL:PT1H
BEGIN:VTIMEZONE
TZID:UTC
BEGIN:STANDARD
TZOFFSETFROM:+0000
TZOFFSETTO:+0000
TZNAME:UTC
DTSTART:20200101T000000
END:STANDARD
END:VTIMEZONE
BEGIN:VEVENT
DTSTART;TZID=UTC:20210717T080000
DTEND;TZID=UTC:20210717T170000
DTSTAMP:20260419T130301
CREATED:20210227T100106Z
LAST-MODIFIED:20210714T155150Z
UID:10000332-1626508800-1626541200@thesecretcocktail.com
SUMMARY:Train The CNA Trainer- Houston\, Texas (July 17th\, 2021)
DESCRIPTION:Ready to start teaching CNAs? You came to the right place. We offer an engaging course that prepares participants to train top-notch CNAs while earning CEU credits! \n\n\n\nOur Train the CNA Trainer course offers flexibility in our current COVID world. This ANCC accredited course is approved for online or in-person learning. All of our instructors are nurses with CNA instructor experience. Participants in our course will learn the following state-required elements: \n\n\n\nOBRA and Requirements to stay Federally CompliantState Specific Requirements for ComplianceRole of the Program CoordinatorRole of the Nurse Aide InstructorIdentifying the Types of Adult LearnersHow to Encourage Information RetentionCurriculum Writing and Lesson PlanningHow to conduct Student EvaluationProgram Assessment and RevisingTech Tools for Learner Engagement \n\n\n\nRemember\, you must be a nurse to be a CNA instructor. LPN or RN \n\n\n\nEach participant will receive 8 CEUs after course completion. \n\n\n\nThis nursing continuing professional development activity was approved by the Georgia Nurses Association\, an accredited approver by the American Nurses Credentialing Center’s Commission on Accreditation. \n\n\n\n\n\n\n\n\n\n\n\n\n\n\n\n\n\n\n\n\n\nTrain the Trainer FAQ\n\n\n+ Is there a test afterward?\n\nNo. This course is an 8 hour CE course. Afterward\, we only ask that you complete the evaluation for us to turn into ANCC. Remember you get 8 CEUs after completion. \n\n\n\n+ Do I get a certificate afterward?\n\nYes\, afterward you will receive a certificate of completion. You can use this certificate to turn into the state along with your resume and nursing license to become an approved CNA Instructor. \n\n\n\n+ Can this certificate transfer to or be accepted in another state?\n\nThis depends heavily on the state. Our classes are state-specific because each state has different regulations for CNA trainers. Some states require a specific amount of hours of training for a nurse to teach CNA’s. You should check with the governing bodies of the states you would like to transfer between to be sure. State specific links are available on our State Requirements page. \n\n\n\n+ Can I start teaching CNA’s right away?\n\nIn order to use this certificate to teach CNA’s\, you must teach at an approved CNA school. The certificate you receive after this course will be submitted to the state under the program you plan to teach for and then and only then will you become an approved CNA instructor. All CNA instructors MUST be affiliated with an approved school. \n\n\n\n+ What do I need the day of the training?\n\nIf you are in the virtual class\, all you need is your computer\, word\, and excel. If you attend in-person training\, you can bring. paper and pen for notes. If you like\, you can bring your computer as well to follow along. \n\n\n\n+ Does this course teach me how to open my own CNA school?\n\nNo. This course is meant to develop your skills as an instructor to effectively teach the curriculum and work in an approved CNA school. Many states require instructors to take a Train the Trainer course to be qualified to teach. Starting a CNA school is a much larger endeavor. For more information on that process please check out our resource page. You can also check out our consulting options if you would like assistance with this process. \n\n\n\n+ What can I do with this certificate after I finish this course?\n\nYou have options! You can use this education to apply to work for a nursing home-based CNA school\, a technical school CNA program\, or you can start your own CNA program. Many employers will require this education as it is a federal standard. Once you have the certificate\, you can submit it along with your résumé and nursing license to be approved as a CNA instructor under an existing or new CNA program.
URL:https://thesecretcocktail.com/event/train-the-cna-trainer-houston-tx-4/
LOCATION:Dotson Healthcare Institute\, 14300 Cornerstone Village Drive Suite 226\, Houston\, TX\, 77014\, United States
CATEGORIES:Texas
ATTACH;FMTTYPE=image/png:https://thesecretcocktail.com/wp-content/uploads/2021/02/Copy-of-TheSecretCocktail-_Train-The-CNA-Trainer-page-clickable-artwork_1080X1080-px_MB_09-Feb-21_r2_v1.png
ORGANIZER;CN="Nicole Dotson%2C RN & Dachia Thompson B.S. HCM%2C LPN":MAILTO:TTT@thesecretcocktail.com
END:VEVENT
BEGIN:VEVENT
DTSTART;TZID=UTC:20210717T080000
DTEND;TZID=UTC:20210717T170000
DTSTAMP:20260419T130301
CREATED:20210227T100106Z
LAST-MODIFIED:20210227T100106Z
UID:10000334-1626508800-1626541200@thesecretcocktail.com
SUMMARY:Train The CNA Trainer- Houston\, Texas (July 17th\, 2021)
DESCRIPTION:Ready to start teaching CNAs? You came to the right place. We offer an engaging course that prepares participants to train top-notch CNAs while earning CEU credits! \n\n\n\nOur Train the CNA Trainer course offers flexibility in our current COVID world. This ANCC accredited course is approved for online or in-person learning. All of our instructors are nurses with CNA instructor experience. Participants in our course will learn the following state-required elements: \n\n\n\nOBRA and Requirements to stay Federally CompliantState Specific Requirements for ComplianceRole of the Program CoordinatorRole of the Nurse Aide InstructorIdentifying the Types of Adult LearnersHow to Encourage Information RetentionCurriculum Writing and Lesson PlanningHow to conduct Student EvaluationProgram Assessment and RevisingTech Tools for Learner Engagement \n\n\n\nRemember\, you must be a nurse to be a CNA instructor. LPN or RN \n\n\n\nEach participant will receive 8 CEUs after course completion. \n\n\n\nThis nursing continuing professional development activity was approved by the Georgia Nurses Association\, an accredited approver by the American Nurses Credentialing Center’s Commission on Accreditation. \n\n\n\n\n\n\n\n\n\n\n\n\n\n\n\n\n\n\n\n\n\nTrain the Trainer FAQ\n\n\n+ Is there a test afterward?\n\nNo. This course is an 8 hour CE course. Afterward\, we only ask that you complete the evaluation for us to turn into ANCC. Remember you get 8 CEUs after completion. \n\n\n\n+ Do I get a certificate afterward?\n\nYes\, afterward you will receive a certificate of completion. You can use this certificate to turn into the state along with your resume and nursing license to become an approved CNA Instructor. \n\n\n\n+ Can this certificate transfer to or be accepted in another state?\n\nThis depends heavily on the state. Our classes are state-specific because each state has different regulations for CNA trainers. Some states require a specific amount of hours of training for a nurse to teach CNA’s. You should check with the governing bodies of the states you would like to transfer between to be sure. State specific links are available on our State Requirements page. \n\n\n\n+ Can I start teaching CNA’s right away?\n\nIn order to use this certificate to teach CNA’s\, you must teach at an approved CNA school. The certificate you receive after this course will be submitted to the state under the program you plan to teach for and then and only then will you become an approved CNA instructor. All CNA instructors MUST be affiliated with an approved school. \n\n\n\n+ What do I need the day of the training?\n\nIf you are in the virtual class\, all you need is your computer\, word\, and excel. If you attend in-person training\, you can bring. paper and pen for notes. If you like\, you can bring your computer as well to follow along. \n\n\n\n+ Does this course teach me how to open my own CNA school?\n\nNo. This course is meant to develop your skills as an instructor to effectively teach the curriculum and work in an approved CNA school. Many states require instructors to take a Train the Trainer course to be qualified to teach. Starting a CNA school is a much larger endeavor. For more information on that process please check out our resource page. You can also check out our consulting options if you would like assistance with this process. \n\n\n\n+ What can I do with this certificate after I finish this course?\n\nYou have options! You can use this education to apply to work for a nursing home-based CNA school\, a technical school CNA program\, or you can start your own CNA program. Many employers will require this education as it is a federal standard. Once you have the certificate\, you can submit it along with your résumé and nursing license to be approved as a CNA instructor under an existing or new CNA program.
URL:https://thesecretcocktail.com/event/train-the-cna-trainer-houston-tx-4-2/
LOCATION:Dotson Healthcare Institute\, 14300 Cornerstone Village Drive Suite 226\, Houston\, TX\, 77014\, United States
CATEGORIES:Texas
ATTACH;FMTTYPE=image/png:https://thesecretcocktail.com/wp-content/uploads/2021/02/Copy-of-TheSecretCocktail-_Train-The-CNA-Trainer-page-clickable-artwork_1080X1080-px_MB_09-Feb-21_r2_v1.png
ORGANIZER;CN="Nicole Dotson%2C RN & Dachia Thompson B.S. HCM%2C LPN":MAILTO:TTT@thesecretcocktail.com
END:VEVENT
END:VCALENDAR