BEGIN:VCALENDAR
VERSION:2.0
PRODID:-//The Secret Cocktail - ECPv6.15.20//NONSGML v1.0//EN
CALSCALE:GREGORIAN
METHOD:PUBLISH
X-WR-CALNAME:The Secret Cocktail
X-ORIGINAL-URL:https://thesecretcocktail.com
X-WR-CALDESC:Events for The Secret Cocktail
REFRESH-INTERVAL;VALUE=DURATION:PT1H
X-Robots-Tag:noindex
X-PUBLISHED-TTL:PT1H
BEGIN:VTIMEZONE
TZID:America/New_York
BEGIN:DAYLIGHT
TZOFFSETFROM:-0500
TZOFFSETTO:-0400
TZNAME:EDT
DTSTART:20220313T070000
END:DAYLIGHT
BEGIN:STANDARD
TZOFFSETFROM:-0400
TZOFFSETTO:-0500
TZNAME:EST
DTSTART:20221106T060000
END:STANDARD
BEGIN:DAYLIGHT
TZOFFSETFROM:-0500
TZOFFSETTO:-0400
TZNAME:EDT
DTSTART:20230312T070000
END:DAYLIGHT
BEGIN:STANDARD
TZOFFSETFROM:-0400
TZOFFSETTO:-0500
TZNAME:EST
DTSTART:20231105T060000
END:STANDARD
BEGIN:DAYLIGHT
TZOFFSETFROM:-0500
TZOFFSETTO:-0400
TZNAME:EDT
DTSTART:20240310T070000
END:DAYLIGHT
BEGIN:STANDARD
TZOFFSETFROM:-0400
TZOFFSETTO:-0500
TZNAME:EST
DTSTART:20241103T060000
END:STANDARD
END:VTIMEZONE
BEGIN:VEVENT
DTSTART;TZID=America/New_York:20230915T080000
DTEND;TZID=America/New_York:20230917T170000
DTSTAMP:20260419T182533
CREATED:20221021T125117Z
LAST-MODIFIED:20230907T130305Z
UID:10000293-1694764800-1694970000@thesecretcocktail.com
SUMMARY:Start a Phlebotomy School In Your State Seminar (September 15th-17th\, 2023)
DESCRIPTION:Ticket sales close two weeks prior to the event. Purchases must be made before then to reserve a spot. \n\n\n\n\n\n\n\nStart a Phlebotomy School In Your State Seminar$5000 \n\n\n\nJoin our engaging\, in-person seminar where we will help you prepare a Phlebotomy Technician training program. You will come to Atlanta\, Georgia for 3 days while I walk you step by step through the course build. Topics will be: Students Handbook\, Clinical Contracts\, Course Catalog\, Curriculum\, Lesson Plans\, Operational Forms\, Syllabus\, and more. This seminar will be completely hands-on in a small group setting of no more than 5 attendees so that you can get personalized help every step of the way. \n\n\n\nYou MUST bring a laptop to gain the most benefit from the subject matter. When you leave you will have all elements of your application prepared for submission. \n\n\n\nThis seminar includes the following: \n\n\n\n\nUnderstand how to write and implement a curriculum considering the different teaching types: psychomotor\, cognitive\, and affective as required.\n\n\n\nWill write and complete a student handbook with policies and procedures.\n\n\n\nWrite and complete a course catalog.\n\n\n\nWill gain access to resources needed to open a Healthcare Training School per local and state regulations.\n\n\n\nWill develop required forms needed to operate a Healthcare Training School program: instructor evaluation\, attendance\, nursing home contract (where applicable)\, etc.\n\n\n\nWill gain access and learn how to use FREE adjunct teaching resources needed to operate Healthcare Training School programs.\n\n\n\nComplete course outline/syllabus.\n\n\n\nTips on how to obtain a contract with a clinical contract.\n\n\n\nQ and A session from someone who has experience in opening a Healthcare Training School.\n\n\n\nBONUS: Breakfast\, Lunch\, and snacks will be provided on day one.\n\n\n\n\nThis seminar is open to ANY state. Please be sure to provide your state upon checkout so it can be tailored to your needs. Seminars can be extended to cover multiple programs for an additional fee. Please contact us for more information on extending your seminar. \n\n\n\n \n\n\n\n\n\n\nOrder Tickets\n\n\n\n\n \n\n\n\n \n\n\n\n\n\nInterested in a Payment Plan? We’ve got you covered! \n\n\n\n\n\n\n2 Installment Payment Plan
URL:https://thesecretcocktail.com/event/start-a-cna-school-in-your-state-seminar-september-17th-19th-2023/
CATEGORIES:TBD
ATTACH;FMTTYPE=image/jpeg:https://thesecretcocktail.com/wp-content/uploads/2021/06/seminar03-scaled.jpeg
END:VEVENT
BEGIN:VEVENT
DTSTART;TZID=America/New_York:20230915T080000
DTEND;TZID=America/New_York:20230917T170000
DTSTAMP:20260419T182533
CREATED:20230919T145410Z
LAST-MODIFIED:20230919T145413Z
UID:10000302-1694764800-1694970000@thesecretcocktail.com
SUMMARY:Start a Phlebotomy School In North Carolina Seminar
DESCRIPTION:Ticket sales close two weeks prior to the event. Purchases must be made before then to reserve a spot. \n\n\n\n\n\n\n\nStart a Phlebotomy School In North Carolina Seminar$5000 \n\n\n\nJoin our engaging\, in-person seminar where we will help you prepare a Phlebotomy Technician training program. You will come to Atlanta\, Georgia for 3 days while I walk you step by step through the course build. Topics will be: Students Handbook\, Clinical Contracts\, Course Catalog\, Curriculum\, Lesson Plans\, Operational Forms\, Syllabus\, and more. This seminar will be completely hands-on in a small group setting of no more than 5 attendees so that you can get personalized help every step of the way. \n\n\n\nYou MUST bring a laptop to gain the most benefit from the subject matter. When you leave you will have all elements of your application prepared for submission. \n\n\n\nThis seminar includes the following: \n\n\n\n\nUnderstand how to write and implement a curriculum considering the different teaching types: psychomotor\, cognitive\, and affective as required.\n\n\n\nWill write and complete a student handbook with policies and procedures.\n\n\n\nWrite and complete a course catalog.\n\n\n\nWill gain access to resources needed to open a Healthcare Training School per local and state regulations.\n\n\n\nWill develop required forms needed to operate a Healthcare Training School program: instructor evaluation\, attendance\, nursing home contract (where applicable)\, etc.\n\n\n\nWill gain access and learn how to use FREE adjunct teaching resources needed to operate Healthcare Training School programs.\n\n\n\nComplete course outline/syllabus.\n\n\n\nTips on how to obtain a contract with a clinical contract.\n\n\n\nQ and A session from someone who has experience in opening a Healthcare Training School.\n\n\n\nBONUS: Breakfast\, Lunch\, and snacks will be provided on day one.\n\n\n\n\n \n\n\n\n \n\n\n\n\n\n\nOrder Tickets\n\n\n\n\n \n\n\n\n \n\n\n\n\n\nInterested in a Payment Plan? We’ve got you covered! \n\n\n\n\n\n\n2 Installment Payment Plan
URL:https://thesecretcocktail.com/event/start-a-phlebotomy-school-in-north-carolina-seminar/
CATEGORIES:TBD
ATTACH;FMTTYPE=image/jpeg:https://thesecretcocktail.com/wp-content/uploads/2021/06/seminar03-scaled.jpeg
END:VEVENT
BEGIN:VEVENT
DTSTART;TZID=America/New_York:20230917T080000
DTEND;TZID=America/New_York:20230919T170000
DTSTAMP:20260419T182533
CREATED:20221021T125117Z
LAST-MODIFIED:20221021T125117Z
UID:10000294-1694937600-1695142800@thesecretcocktail.com
SUMMARY:Start a CNA School In Texas Seminar (September 17th-19th\, 2023)
DESCRIPTION:Ticket sales close two weeks prior to the event. Purchases must be made before then to reserve a spot. \n\n\n\n\n\n\n\nStart a CNA School in Texas Seminar$5000 \n\n\n\nBe the first to claim this seminar for your state. Join our engaging one on one seminar where we will help you prepare your state-required elements for your CNA School. You will come to Atlanta\, Georgia for 3 days while I walk you step by step through all your states paperwork. Topics will be: Students Handbook\, Nursing Home Contract\, Curriculum\, Lesson Plans\, Operational Forms\, Syllabus\, and more. This seminar will be completely hands-on. \n\n\n\nYou MUST bring a laptop to gain the most benefit from the subject matter. When you leave you will have all elements of your application prepared for submission. \n\n\n\nThis seminar includes the following: \n\n\n\n\nWrite your curriculum/lesson plans for the CNA curriculum per the Federal and state guidelines.\n\n\n\nUnderstand how to write and implement a curriculum considering the different teaching types: psychomotor\, cognitive\, and affective.\n\n\n\nWill write and complete a student handbook with policies and procedures.\n\n\n\nWill gain access to resources needed to open a CNA school per local and state regulations.\n\n\n\nWill develop required forms needed to operate a CNA program: instructor evaluation\, attendance\, nursing home contract\, etc.\n\n\n\nWill gain access and learn how to use FREE adjunct teaching resources needed to operate CNA programs.\n\n\n\nComplete course outline/syllabus.\n\n\n\nTips on how to obtain a contract with a nursing home.\n\n\n\nQ and A session from someone who has experience in opening a CNA school.\n\n\n\nBONUS: Breakfast\, Lunch\, and snacks will be provided on day one.\n\n\n\n\n \n\n\n\n\n\n\nOrder Tickets\n\n\n\n\n \n\n\n\n \n\n\n\n\n\nInterested in a Payment Plan? We’ve got you covered! \n\n\n\n\n\n\n2 Installment Payment Plan
URL:https://thesecretcocktail.com/event/start-a-cna-school-in-your-state-seminar-september-17th-19th-2023-2/
CATEGORIES:TBD
ATTACH;FMTTYPE=image/jpeg:https://thesecretcocktail.com/wp-content/uploads/2021/06/seminar03-scaled.jpeg
END:VEVENT
END:VCALENDAR