BEGIN:VCALENDAR
VERSION:2.0
PRODID:-//The Secret Cocktail - ECPv6.15.20//NONSGML v1.0//EN
CALSCALE:GREGORIAN
METHOD:PUBLISH
X-ORIGINAL-URL:https://thesecretcocktail.com
X-WR-CALDESC:Events for The Secret Cocktail
REFRESH-INTERVAL;VALUE=DURATION:PT1H
X-Robots-Tag:noindex
X-PUBLISHED-TTL:PT1H
BEGIN:VTIMEZONE
TZID:America/New_York
BEGIN:DAYLIGHT
TZOFFSETFROM:-0500
TZOFFSETTO:-0400
TZNAME:EDT
DTSTART:20250309T070000
END:DAYLIGHT
BEGIN:STANDARD
TZOFFSETFROM:-0400
TZOFFSETTO:-0500
TZNAME:EST
DTSTART:20251102T060000
END:STANDARD
BEGIN:DAYLIGHT
TZOFFSETFROM:-0500
TZOFFSETTO:-0400
TZNAME:EDT
DTSTART:20260308T070000
END:DAYLIGHT
BEGIN:STANDARD
TZOFFSETFROM:-0400
TZOFFSETTO:-0500
TZNAME:EST
DTSTART:20261101T060000
END:STANDARD
BEGIN:DAYLIGHT
TZOFFSETFROM:-0500
TZOFFSETTO:-0400
TZNAME:EDT
DTSTART:20270314T070000
END:DAYLIGHT
BEGIN:STANDARD
TZOFFSETFROM:-0400
TZOFFSETTO:-0500
TZNAME:EST
DTSTART:20271107T060000
END:STANDARD
END:VTIMEZONE
BEGIN:VEVENT
DTSTART;TZID=America/New_York:20260606T080000
DTEND;TZID=America/New_York:20260607T170000
DTSTAMP:20260420T183405
CREATED:20260420T163034Z
LAST-MODIFIED:20260420T165321Z
UID:10000651-1780732800-1780851600@thesecretcocktail.com
SUMMARY:2-Day Phlebotomy School Startup Seminar (June 6th-7th\, 2026)
DESCRIPTION:$5000 \n\n\n\nJoin our engaging\, in-person seminar where we will help you prepare your state-required elements for your Phlebotomy Technician Training School. Seminars are available at our location at Austell\, Georgia as well as other destinations as scheduling permits. You will join me for 2 days while I walk you through all of your required paperwork. Topics will be: Students Handbook\, Course Catalog\, Curriculum\, Lesson Plans\, Operational Forms\, Syllabus\, and more. This seminar will be completely hands-on in a small group setting of no more than 5 attendees so that you can get personalized help every step of the way. \n\n\n\nYou MUST bring a laptop to gain the most benefit from the subject matter. When you leave you will have all elements of your application prepared for submission. \n\n\n\nThis seminar includes the following: \n\n\n\n\nUnderstand how to write and implement a curriculum considering the different teaching types: psychomotor\, cognitive\, and affective as required.\n\n\n\nWill write and complete a student handbook with policies and procedures.\n\n\n\nWrite and complete a course catalog.\n\n\n\nWill gain access to resources needed to open a Phlebotomy Technician Training School per local and state regulations.\n\n\n\nWill develop required forms needed to operate a Phlebotomy Technician Training School program: instructor evaluation\, attendance\, nursing home contract (where applicable)\, etc.\n\n\n\nWill gain access and learn how to use FREE adjunct teaching resources needed to operate Phlebotomy Technician Training School programs.\n\n\n\nComplete course outline/syllabus.\n\n\n\nQ and A session from someone who has experience in opening a Phlebotomy Technician Training School.\n\n\n\nBONUS: Breakfast\, Lunch\, and snacks will be provided on day one.\n\n\n\n\nThis seminar is open to ANY state. Please be sure to provide your state upon checkout so it can be tailored to your needs. Seminars can be extended to cover multiple programs for an additional fee. Please contact us for more information on extending your seminar.
URL:https://thesecretcocktail.com/event/2-day-phlebotomy-school-startup-seminar-june-6th-7th-2026/
LOCATION:Venue\, Sweetwater Mission 6130 Hotel Street\, Austell\, Georgia\, 30106\, United States
CATEGORIES:Florida,Illinois,Ohio,Texas
END:VEVENT
END:VCALENDAR